Package: chipenrich Version: 2.32.0 Command: /Library/Frameworks/R.framework/Resources/bin/R CMD check --install=check:chipenrich.install-out.txt --library=/Library/Frameworks/R.framework/Resources/library --no-vignettes --timings chipenrich_2.32.0.tar.gz StartedAt: 2025-04-21 19:42:15 -0400 (Mon, 21 Apr 2025) EndedAt: 2025-04-21 19:51:06 -0400 (Mon, 21 Apr 2025) EllapsedTime: 531.2 seconds RetCode: 0 Status: OK CheckDir: chipenrich.Rcheck Warnings: 0