Package: chipenrich Version: 2.32.0 Command: /home/biocbuild/R/R/bin/R CMD check --install=check:chipenrich.install-out.txt --library=/home/biocbuild/R/R/site-library --no-vignettes --timings chipenrich_2.32.0.tar.gz StartedAt: 2025-10-14 07:25:01 -0000 (Tue, 14 Oct 2025) EndedAt: 2025-10-14 07:36:28 -0000 (Tue, 14 Oct 2025) EllapsedTime: 687.5 seconds RetCode: 0 Status: OK CheckDir: chipenrich.Rcheck Warnings: 0