Package: chihaya Version: 1.8.0 Command: E:\biocbuild\bbs-3.21-bioc\R\bin\R.exe CMD check --no-multiarch --install=check:chihaya.install-out.txt --library=E:\biocbuild\bbs-3.21-bioc\R\library --no-vignettes --timings chihaya_1.8.0.tar.gz StartedAt: 2025-08-15 00:31:15 -0400 (Fri, 15 Aug 2025) EndedAt: 2025-08-15 00:35:01 -0400 (Fri, 15 Aug 2025) EllapsedTime: 226.1 seconds RetCode: 0 Status: OK CheckDir: chihaya.Rcheck Warnings: 0