Package: chevreulProcess Version: 1.0.0 Command: rm -rf chevreulProcess.buildbin-libdir && mkdir chevreulProcess.buildbin-libdir && E:\biocbuild\bbs-3.21-bioc\R\bin\R.exe CMD INSTALL --build --library=chevreulProcess.buildbin-libdir chevreulProcess_1.0.0.tar.gz StartedAt: 2025-08-15 08:58:13 -0400 (Fri, 15 Aug 2025) EndedAt: 2025-08-15 09:01:33 -0400 (Fri, 15 Aug 2025) EllapsedTime: 200.4 seconds RetCode: 0 Status: OK PackageFile: chevreulProcess_1.0.0.zip PackageFileSize: 4.87 MiB