Package: chevreulProcess Version: 1.0.0 Command: /home/biocbuild/R/R/bin/R CMD INSTALL chevreulProcess StartedAt: 2025-10-13 21:15:59 -0000 (Mon, 13 Oct 2025) EndedAt: 2025-10-13 21:17:13 -0000 (Mon, 13 Oct 2025) EllapsedTime: 73.1 seconds RetCode: 0 Status: OK