Package: chevreulPlot Version: 1.1.2 Command: chmod a+r chevreulPlot -R && F:\biocbuild\bbs-3.22-bioc\R\bin\R.exe CMD build --keep-empty-dirs --no-resave-data chevreulPlot StartedAt: 2025-08-14 19:04:27 -0400 (Thu, 14 Aug 2025) EndedAt: 2025-08-14 19:06:19 -0400 (Thu, 14 Aug 2025) EllapsedTime: 112.5 seconds RetCode: 0 Status: OK PackageFile: chevreulPlot_1.1.2.tar.gz PackageFileSize: 12.61 MiB