Package: chevreulPlot Version: 1.1.2 Command: rm -rf chevreulPlot.buildbin-libdir && mkdir chevreulPlot.buildbin-libdir && F:\biocbuild\bbs-3.22-bioc\R\bin\R.exe CMD INSTALL --build --library=chevreulPlot.buildbin-libdir chevreulPlot_1.1.2.tar.gz StartedAt: 2025-08-15 09:56:30 -0400 (Fri, 15 Aug 2025) EndedAt: 2025-08-15 09:57:38 -0400 (Fri, 15 Aug 2025) EllapsedTime: 68.6 seconds RetCode: 0 Status: OK PackageFile: chevreulPlot_1.1.2.zip PackageFileSize: 12.66 MiB