Package: chevreulPlot Version: 1.0.0 Command: /Library/Frameworks/R.framework/Resources/bin/R CMD INSTALL chevreulPlot StartedAt: 2025-04-21 15:30:08 -0400 (Mon, 21 Apr 2025) EndedAt: 2025-04-21 15:30:31 -0400 (Mon, 21 Apr 2025) EllapsedTime: 22.9 seconds RetCode: 0 Status: OK