Package: chevreulPlot Version: 1.0.0 Command: /Library/Frameworks/R.framework/Resources/bin/R CMD check --install=check:chevreulPlot.install-out.txt --library=/Library/Frameworks/R.framework/Resources/library --no-vignettes --timings chevreulPlot_1.0.0.tar.gz StartedAt: 2025-04-21 18:35:41 -0400 (Mon, 21 Apr 2025) EndedAt: 2025-04-21 18:38:22 -0400 (Mon, 21 Apr 2025) EllapsedTime: 161.8 seconds RetCode: 0 Status: OK CheckDir: chevreulPlot.Rcheck Warnings: 0