Package: cghMCR Version: 1.66.0 Command: /Library/Frameworks/R.framework/Resources/bin/R CMD check --install=check:cghMCR.install-out.txt --library=/Library/Frameworks/R.framework/Resources/library --no-vignettes --timings cghMCR_1.66.0.tar.gz StartedAt: 2025-10-14 01:19:15 -0400 (Tue, 14 Oct 2025) EndedAt: 2025-10-14 01:23:44 -0400 (Tue, 14 Oct 2025) EllapsedTime: 269.4 seconds RetCode: 0 Status: WARNINGS CheckDir: cghMCR.Rcheck Warnings: 1