Package: cfdnakit Version: 1.6.0 Command: /Library/Frameworks/R.framework/Resources/bin/R CMD check --install=check:cfdnakit.install-out.txt --library=/Library/Frameworks/R.framework/Resources/library --no-vignettes --timings cfdnakit_1.6.0.tar.gz StartedAt: 2025-04-21 18:34:31 -0400 (Mon, 21 Apr 2025) EndedAt: 2025-04-21 18:35:53 -0400 (Mon, 21 Apr 2025) EllapsedTime: 82.0 seconds RetCode: 0 Status: OK CheckDir: cfdnakit.Rcheck Warnings: 0