Package: cfdnakit Version: 1.6.0 Command: /Library/Frameworks/R.framework/Resources/bin/R CMD build --keep-empty-dirs --no-resave-data cfdnakit StartedAt: 2025-04-21 15:52:06 -0400 (Mon, 21 Apr 2025) EndedAt: 2025-04-21 15:52:25 -0400 (Mon, 21 Apr 2025) EllapsedTime: 19.3 seconds RetCode: 0 Status: OK PackageFile: cfdnakit_1.6.0.tar.gz PackageFileSize: 3.021 MiB