Package: cfTools Version: 1.8.0 Command: E:\biocbuild\bbs-3.21-bioc\R\bin\R.exe CMD INSTALL cfTools StartedAt: 2025-08-14 16:08:23 -0400 (Thu, 14 Aug 2025) EndedAt: 2025-08-14 16:10:11 -0400 (Thu, 14 Aug 2025) EllapsedTime: 108.1 seconds RetCode: 0 Status: OK