Package: cellxgenedp Version: 1.14.0 Command: /home/biocbuild/bbs-3.22-bioc/R/bin/R CMD INSTALL cellxgenedp StartedAt: 2025-11-06 15:08:29 -0500 (Thu, 06 Nov 2025) EndedAt: 2025-11-06 15:08:36 -0500 (Thu, 06 Nov 2025) EllapsedTime: 7.2 seconds RetCode: 0 Status: OK