Package: cellity Version: 1.37.0 Command: /home/biocbuild/R/R/bin/R CMD check --install=check:cellity.install-out.txt --library=/home/biocbuild/R/R/site-library --no-vignettes --timings cellity_1.37.0.tar.gz StartedAt: 2025-10-21 06:18:59 -0000 (Tue, 21 Oct 2025) EndedAt: 2025-10-21 06:22:16 -0000 (Tue, 21 Oct 2025) EllapsedTime: 197.1 seconds RetCode: 0 Status: OK CheckDir: cellity.Rcheck Warnings: 0