Package: cellity Version: 1.37.0 Command: /home/biocbuild/R/R/bin/R CMD build --keep-empty-dirs --no-resave-data cellity StartedAt: 2025-10-20 22:33:09 -0000 (Mon, 20 Oct 2025) EndedAt: 2025-10-20 22:34:53 -0000 (Mon, 20 Oct 2025) EllapsedTime: 104.0 seconds RetCode: 0 Status: OK PackageFile: cellity_1.37.0.tar.gz PackageFileSize: 1.132 MiB