Package: cellity Version: 1.38.0 Command: /home/biocbuild/bbs-3.22-bioc/R/bin/R CMD check --install=check:cellity.install-out.txt --library=/home/biocbuild/bbs-3.22-bioc/R/site-library --timings cellity_1.38.0.tar.gz StartedAt: 2025-11-09 22:03:45 -0500 (Sun, 09 Nov 2025) EndedAt: 2025-11-09 22:07:08 -0500 (Sun, 09 Nov 2025) EllapsedTime: 202.1 seconds RetCode: 0 Status: OK CheckDir: cellity.Rcheck Warnings: 0