Package: celaref Version: 1.26.0 Command: chmod a+r celaref -R && E:\biocbuild\bbs-3.21-bioc\R\bin\R.exe CMD build --keep-empty-dirs --no-resave-data celaref StartedAt: 2025-08-14 17:53:43 -0400 (Thu, 14 Aug 2025) EndedAt: 2025-08-14 17:57:55 -0400 (Thu, 14 Aug 2025) EllapsedTime: 252.1 seconds RetCode: 0 Status: OK PackageFile: celaref_1.26.0.tar.gz PackageFileSize: 2.031 MiB