Package: celaref Version: 1.26.0 Command: /Library/Frameworks/R.framework/Resources/bin/R CMD INSTALL celaref StartedAt: 2025-10-13 15:37:56 -0400 (Mon, 13 Oct 2025) EndedAt: 2025-10-13 15:38:55 -0400 (Mon, 13 Oct 2025) EllapsedTime: 59.5 seconds RetCode: 0 Status: OK