Package: celaref Version: 1.26.0 Command: rm -rf celaref.buildbin-libdir && mkdir celaref.buildbin-libdir && /Users/biocbuild/BBS/utils/build-universal.sh celaref_1.26.0.tar.gz /Library/Frameworks/R.framework/Resources/bin/R celaref.buildbin-libdir StartedAt: 2025-10-14 12:59:18 -0400 (Tue, 14 Oct 2025) EndedAt: 2025-10-14 13:00:22 -0400 (Tue, 14 Oct 2025) EllapsedTime: 64.2 seconds RetCode: 0 Status: OK PackageFile: celaref_1.26.0.tgz PackageFileSize: 3.062 MiB