Package: celaref Version: 1.26.0 Command: /Library/Frameworks/R.framework/Resources/bin/R CMD INSTALL celaref StartedAt: 2025-10-13 16:16:46 -0400 (Mon, 13 Oct 2025) EndedAt: 2025-10-13 16:17:19 -0400 (Mon, 13 Oct 2025) EllapsedTime: 32.6 seconds RetCode: 0 Status: OK