Package: celaref Version: 1.26.0 Command: rm -rf celaref.buildbin-libdir && mkdir celaref.buildbin-libdir && /Users/biocbuild/BBS/utils/build-universal.sh celaref_1.26.0.tar.gz /Library/Frameworks/R.framework/Resources/bin/R celaref.buildbin-libdir StartedAt: 2025-10-15 17:44:50 -0400 (Wed, 15 Oct 2025) EndedAt: 2025-10-15 17:45:27 -0400 (Wed, 15 Oct 2025) EllapsedTime: 37.2 seconds RetCode: 0 Status: OK PackageFile: celaref_1.26.0.tgz PackageFileSize: 3.062 MiB