Package: ccmap Version: 1.34.0 Command: rm -rf ccmap.buildbin-libdir && mkdir ccmap.buildbin-libdir && E:\biocbuild\bbs-3.21-bioc\R\bin\R.exe CMD INSTALL --build --library=ccmap.buildbin-libdir ccmap_1.34.0.tar.gz StartedAt: 2025-08-15 08:56:26 -0400 (Fri, 15 Aug 2025) EndedAt: 2025-08-15 08:56:51 -0400 (Fri, 15 Aug 2025) EllapsedTime: 24.5 seconds RetCode: 0 Status: OK PackageFile: ccmap_1.34.0.zip PackageFileSize: 425.6 KiB