Package: ccmap Version: 1.34.0 Command: /home/biocbuild/bbs-3.21-bioc/R/bin/R CMD check --install=check:ccmap.install-out.txt --library=/home/biocbuild/bbs-3.21-bioc/R/site-library --timings ccmap_1.34.0.tar.gz StartedAt: 2025-10-15 21:30:01 -0400 (Wed, 15 Oct 2025) EndedAt: 2025-10-15 21:34:01 -0400 (Wed, 15 Oct 2025) EllapsedTime: 240.3 seconds RetCode: 0 Status: WARNINGS CheckDir: ccmap.Rcheck Warnings: 1