Package: ccfindR Version: 1.29.0 Command: /home/biocbuild/R/R/bin/R CMD check --install=check:ccfindR.install-out.txt --library=/home/biocbuild/R/R/site-library --no-vignettes --timings ccfindR_1.29.0.tar.gz StartedAt: 2025-10-21 06:15:59 -0000 (Tue, 21 Oct 2025) EndedAt: 2025-10-21 06:20:33 -0000 (Tue, 21 Oct 2025) EllapsedTime: 274.2 seconds RetCode: 0 Status: WARNINGS CheckDir: ccfindR.Rcheck Warnings: 1