Package: ccImpute Version: 1.12.0 Command: /home/biocbuild/bbs-3.22-bioc/R/bin/R CMD build --keep-empty-dirs --no-resave-data --md5 ccImpute StartedAt: 2025-11-06 16:41:19 -0500 (Thu, 06 Nov 2025) EndedAt: 2025-11-06 16:44:56 -0500 (Thu, 06 Nov 2025) EllapsedTime: 217.1 seconds RetCode: 0 Status: OK PackageFile: ccImpute_1.12.0.tar.gz PackageFileSize: 987.3 KiB