Package: ccImpute Version: 1.12.0 Command: /Library/Frameworks/R.framework/Resources/bin/R CMD check --install=check:ccImpute.install-out.txt --library=/Library/Frameworks/R.framework/Resources/library --no-vignettes --timings ccImpute_1.12.0.tar.gz StartedAt: 2025-11-03 20:01:37 -0500 (Mon, 03 Nov 2025) EndedAt: 2025-11-03 20:04:58 -0500 (Mon, 03 Nov 2025) EllapsedTime: 200.7 seconds RetCode: 0 Status: OK CheckDir: ccImpute.Rcheck Warnings: 0