Package: ccImpute Version: 1.12.0 Command: /Library/Frameworks/R.framework/Resources/bin/R CMD INSTALL ccImpute StartedAt: 2025-11-06 15:17:48 -0500 (Thu, 06 Nov 2025) EndedAt: 2025-11-06 15:18:02 -0500 (Thu, 06 Nov 2025) EllapsedTime: 14.6 seconds RetCode: 0 Status: OK