Package: ccImpute Version: 1.12.0 Command: /Library/Frameworks/R.framework/Resources/bin/R CMD build --keep-empty-dirs --no-resave-data ccImpute StartedAt: 2025-11-06 15:51:34 -0500 (Thu, 06 Nov 2025) EndedAt: 2025-11-06 15:53:16 -0500 (Thu, 06 Nov 2025) EllapsedTime: 102.1 seconds RetCode: 0 Status: OK PackageFile: ccImpute_1.12.0.tar.gz PackageFileSize: 986.3 KiB