Package: ccImpute Version: 1.12.0 Command: rm -rf ccImpute.buildbin-libdir && mkdir ccImpute.buildbin-libdir && /Users/biocbuild/BBS/utils/build-universal.sh ccImpute_1.12.0.tar.gz /Library/Frameworks/R.framework/Resources/bin/R ccImpute.buildbin-libdir StartedAt: 2025-11-06 22:58:38 -0500 (Thu, 06 Nov 2025) EndedAt: 2025-11-06 22:58:54 -0500 (Thu, 06 Nov 2025) EllapsedTime: 16.3 seconds RetCode: 0 Status: OK PackageFile: ccImpute_1.12.0.tgz PackageFileSize: 1.061 MiB