Package: ccImpute Version: 1.12.0 Maintainer: Marcin Malec MaintainerEmail: mamalec at iu.edu git_url: https://git.bioconductor.org/packages/ccImpute git_branch: RELEASE_3_22 git_last_commit: 4f91f58 git_last_commit_date: 2025-10-29 11:19:37 -0500 (Wed, 29 Oct 2025)