Package: cbpManager Version: 1.17.0 Command: /home/biocbuild/R/R/bin/R CMD check --install=check:cbpManager.install-out.txt --library=/home/biocbuild/R/R/site-library --no-vignettes --timings cbpManager_1.17.0.tar.gz StartedAt: 2025-10-21 06:14:44 -0000 (Tue, 21 Oct 2025) EndedAt: 2025-10-21 06:15:59 -0000 (Tue, 21 Oct 2025) EllapsedTime: 75.0 seconds RetCode: 0 Status: WARNINGS CheckDir: cbpManager.Rcheck Warnings: 1