Package: casper Version: 2.42.0 Command: rm -rf casper.buildbin-libdir && mkdir casper.buildbin-libdir && E:\biocbuild\bbs-3.21-bioc\R\bin\R.exe CMD INSTALL --build --library=casper.buildbin-libdir casper_2.42.0.tar.gz StartedAt: 2025-08-15 08:55:34 -0400 (Fri, 15 Aug 2025) EndedAt: 2025-08-15 08:57:41 -0400 (Fri, 15 Aug 2025) EllapsedTime: 127.7 seconds RetCode: 0 Status: OK PackageFile: casper_2.42.0.zip PackageFileSize: 3.276 MiB