Package: casper Version: 2.42.0 Command: /Library/Frameworks/R.framework/Resources/bin/R CMD INSTALL casper StartedAt: 2025-10-13 16:10:17 -0400 (Mon, 13 Oct 2025) EndedAt: 2025-10-13 16:12:39 -0400 (Mon, 13 Oct 2025) EllapsedTime: 142.6 seconds RetCode: 0 Status: OK