Package: cardelino Version: 1.12.0 Command: /home/biocbuild/R/R/bin/R CMD check --install=check:cardelino.install-out.txt --library=/home/biocbuild/R/R/site-library --no-vignettes --timings cardelino_1.12.0.tar.gz StartedAt: 2025-11-11 07:49:29 -0000 (Tue, 11 Nov 2025) EndedAt: 2025-11-11 07:58:40 -0000 (Tue, 11 Nov 2025) EllapsedTime: 551.4 seconds RetCode: 0 Status: OK CheckDir: cardelino.Rcheck Warnings: 0