Package: cardelino Version: 1.11.0 Command: F:\biocbuild\bbs-3.22-bioc\R\bin\R.exe CMD check --no-multiarch --install=check:cardelino.install-out.txt --library=F:\biocbuild\bbs-3.22-bioc\R\library --no-vignettes --timings cardelino_1.11.0.tar.gz StartedAt: 2025-08-15 01:19:18 -0400 (Fri, 15 Aug 2025) EndedAt: 2025-08-15 01:28:24 -0400 (Fri, 15 Aug 2025) EllapsedTime: 546.2 seconds RetCode: 0 Status: OK CheckDir: cardelino.Rcheck Warnings: 0