Package: cardelino Version: 1.12.0 Command: /home/biocbuild/bbs-3.22-bioc/R/bin/R CMD check --install=check:cardelino.install-out.txt --library=/home/biocbuild/bbs-3.22-bioc/R/site-library --timings cardelino_1.12.0.tar.gz StartedAt: 2025-11-04 21:46:39 -0500 (Tue, 04 Nov 2025) EndedAt: 2025-11-04 21:54:06 -0500 (Tue, 04 Nov 2025) EllapsedTime: 447.5 seconds RetCode: 0 Status: OK CheckDir: cardelino.Rcheck Warnings: 0