Package: cardelino Version: 1.12.0 Command: /Library/Frameworks/R.framework/Resources/bin/R CMD INSTALL cardelino StartedAt: 2025-11-03 15:43:07 -0500 (Mon, 03 Nov 2025) EndedAt: 2025-11-03 15:44:07 -0500 (Mon, 03 Nov 2025) EllapsedTime: 60.1 seconds RetCode: 0 Status: OK