Package: cardelino Version: 1.12.0 Command: /Library/Frameworks/R.framework/Resources/bin/R CMD INSTALL cardelino StartedAt: 2025-11-03 15:21:51 -0500 (Mon, 03 Nov 2025) EndedAt: 2025-11-03 15:22:09 -0500 (Mon, 03 Nov 2025) EllapsedTime: 17.8 seconds RetCode: 0 Status: OK