Package: cardelino Version: 1.12.0 Command: /Library/Frameworks/R.framework/Resources/bin/R CMD check --install=check:cardelino.install-out.txt --library=/Library/Frameworks/R.framework/Resources/library --no-vignettes --timings cardelino_1.12.0.tar.gz StartedAt: 2025-11-06 18:50:03 -0500 (Thu, 06 Nov 2025) EndedAt: 2025-11-06 18:52:56 -0500 (Thu, 06 Nov 2025) EllapsedTime: 173.1 seconds RetCode: 0 Status: OK CheckDir: cardelino.Rcheck Warnings: 0