Package: cardelino Version: 1.12.0 Command: rm -rf cardelino.buildbin-libdir && mkdir cardelino.buildbin-libdir && /Users/biocbuild/BBS/utils/build-universal.sh cardelino_1.12.0.tar.gz /Library/Frameworks/R.framework/Resources/bin/R cardelino.buildbin-libdir StartedAt: 2025-11-03 22:58:16 -0500 (Mon, 03 Nov 2025) EndedAt: 2025-11-03 22:58:36 -0500 (Mon, 03 Nov 2025) EllapsedTime: 20.4 seconds RetCode: 0 Status: OK PackageFile: cardelino_1.12.0.tgz PackageFileSize: 3.842 MiB