Package: cardelino Version: 1.12.0 Maintainer: Davis McCarthy MaintainerEmail: dmccarthy at svi.edu.au git_url: https://git.bioconductor.org/packages/cardelino git_branch: RELEASE_3_22 git_last_commit: 9566a0e git_last_commit_date: 2025-10-29 11:19:32 -0500 (Wed, 29 Oct 2025)