Package: canceR Version: 1.43.0 Command: /home/biocbuild/R/R/bin/R CMD INSTALL canceR StartedAt: 2025-10-23 21:09:00 -0000 (Thu, 23 Oct 2025) EndedAt: 2025-10-23 21:10:45 -0000 (Thu, 23 Oct 2025) EllapsedTime: 105.6 seconds RetCode: 0 Status: OK