Package: canceR Version: 1.42.0 Command: /home/biocbuild/R/R/bin/R CMD INSTALL canceR StartedAt: 2025-09-29 21:00:39 -0000 (Mon, 29 Sep 2025) EndedAt: 2025-09-29 21:02:23 -0000 (Mon, 29 Sep 2025) EllapsedTime: 103.7 seconds RetCode: 0 Status: OK