Package: canceR Version: 1.42.0 Command: /home/biocbuild/R/R/bin/R CMD check --install=check:canceR.install-out.txt --library=/home/biocbuild/R/R/site-library --no-vignettes --timings canceR_1.42.0.tar.gz StartedAt: 2025-09-30 07:44:45 -0000 (Tue, 30 Sep 2025) EndedAt: 2025-09-30 07:54:59 -0000 (Tue, 30 Sep 2025) EllapsedTime: 614.4 seconds RetCode: 0 Status: WARNINGS CheckDir: canceR.Rcheck Warnings: 1