Package: canceR Version: 1.42.0 Command: /Library/Frameworks/R.framework/Resources/bin/R CMD INSTALL canceR StartedAt: 2025-09-29 18:33:25 -0400 (Mon, 29 Sep 2025) EndedAt: 2025-09-29 18:35:03 -0400 (Mon, 29 Sep 2025) EllapsedTime: 98.0 seconds RetCode: 0 Status: OK