Package: canceR Version: 1.42.0 Command: /Library/Frameworks/R.framework/Resources/bin/R CMD check --install=check:canceR.install-out.txt --library=/Library/Frameworks/R.framework/Resources/library --no-vignettes --timings canceR_1.42.0.tar.gz StartedAt: 2025-09-30 15:00:35 -0400 (Tue, 30 Sep 2025) EndedAt: 2025-09-30 15:10:06 -0400 (Tue, 30 Sep 2025) EllapsedTime: 571.8 seconds RetCode: 0 Status: WARNINGS CheckDir: canceR.Rcheck Warnings: 1