Package: calm Version: 1.23.0 Command: /home/biocbuild/R/R/bin/R CMD build --keep-empty-dirs --no-resave-data calm StartedAt: 2025-10-20 22:27:10 -0000 (Mon, 20 Oct 2025) EndedAt: 2025-10-20 22:29:54 -0000 (Mon, 20 Oct 2025) EllapsedTime: 164.1 seconds RetCode: 0 Status: OK PackageFile: calm_1.23.0.tar.gz PackageFileSize: 390.2 KiB