Package: calm Version: 1.24.0 Command: /Library/Frameworks/R.framework/Resources/bin/R CMD build --keep-empty-dirs --no-resave-data calm StartedAt: 2025-11-03 16:20:06 -0500 (Mon, 03 Nov 2025) EndedAt: 2025-11-03 16:22:20 -0500 (Mon, 03 Nov 2025) EllapsedTime: 133.6 seconds RetCode: 0 Status: OK PackageFile: calm_1.24.0.tar.gz PackageFileSize: 397.3 KiB