Package: calm Version: 1.24.0 Command: /Library/Frameworks/R.framework/Resources/bin/R CMD INSTALL calm StartedAt: 2025-10-31 15:09:42 -0400 (Fri, 31 Oct 2025) EndedAt: 2025-10-31 15:09:44 -0400 (Fri, 31 Oct 2025) EllapsedTime: 2.8 seconds RetCode: 0 Status: OK